BEGIN:VCALENDAR
VERSION:2.0
PRODID:-//Hamilton Jewish Family Services - ECPv6.15.20//NONSGML v1.0//EN
CALSCALE:GREGORIAN
METHOD:PUBLISH
X-WR-CALNAME:Hamilton Jewish Family Services
X-ORIGINAL-URL:https://hamiltonjfs.ca
X-WR-CALDESC:Events for Hamilton Jewish Family Services
REFRESH-INTERVAL;VALUE=DURATION:PT1H
X-Robots-Tag:noindex
X-PUBLISHED-TTL:PT1H
BEGIN:VTIMEZONE
TZID:America/Toronto
BEGIN:DAYLIGHT
TZOFFSETFROM:-0500
TZOFFSETTO:-0400
TZNAME:EDT
DTSTART:20250309T070000
END:DAYLIGHT
BEGIN:STANDARD
TZOFFSETFROM:-0400
TZOFFSETTO:-0500
TZNAME:EST
DTSTART:20251102T060000
END:STANDARD
BEGIN:DAYLIGHT
TZOFFSETFROM:-0500
TZOFFSETTO:-0400
TZNAME:EDT
DTSTART:20260308T070000
END:DAYLIGHT
BEGIN:STANDARD
TZOFFSETFROM:-0400
TZOFFSETTO:-0500
TZNAME:EST
DTSTART:20261101T060000
END:STANDARD
BEGIN:DAYLIGHT
TZOFFSETFROM:-0500
TZOFFSETTO:-0400
TZNAME:EDT
DTSTART:20270314T070000
END:DAYLIGHT
BEGIN:STANDARD
TZOFFSETFROM:-0400
TZOFFSETTO:-0500
TZNAME:EST
DTSTART:20271107T060000
END:STANDARD
END:VTIMEZONE
BEGIN:VEVENT
DTSTART;TZID=America/Toronto:20260304T103000
DTEND;TZID=America/Toronto:20260304T113000
DTSTAMP:20260425T113609
CREATED:20260305T161731Z
LAST-MODIFIED:20260305T161731Z
UID:111140-1772620200-1772623800@hamiltonjfs.ca
SUMMARY:Functional Fitness
DESCRIPTION:Improve strength\, mobility and balance. All equipment provided. All fitness levels are welcome. Occurs every Wednesday unless otherwise noted.
URL:https://hamiltonjfs.ca/event/functional-fitness-29/
LOCATION:Hamilton Jewish Family Services\, 30 King Street E\, Dundas
CATEGORIES:Functional Fitness,Seniors Living Well Centre
ATTACH;FMTTYPE=image/png:https://hamiltonjfs.ca/wp-content/uploads/2024/10/Functional-Fitness-for-Seniors-INSTA-2.png
ORGANIZER;CN="Seniors Living Well Centre":MAILTO:erikam@hamiltonjfs.ca
END:VEVENT
BEGIN:VEVENT
DTSTART;TZID=America/Toronto:20260311T103000
DTEND;TZID=America/Toronto:20260311T113000
DTSTAMP:20260425T113609
CREATED:20260305T230747Z
LAST-MODIFIED:20260305T230747Z
UID:111160-1773225000-1773228600@hamiltonjfs.ca
SUMMARY:Functional Fitness
DESCRIPTION:Improve strength\, mobility and balance. All equipment provided. All fitness levels are welcome. Occurs every Wednesday unless otherwise noted.
URL:https://hamiltonjfs.ca/event/functional-fitness-30/
LOCATION:Hamilton Jewish Family Services\, 30 King Street E\, Dundas
CATEGORIES:Functional Fitness,Seniors Living Well Centre
ATTACH;FMTTYPE=image/png:https://hamiltonjfs.ca/wp-content/uploads/2024/10/Functional-Fitness-for-Seniors-INSTA-2.png
ORGANIZER;CN="Seniors Living Well Centre":MAILTO:erikam@hamiltonjfs.ca
END:VEVENT
BEGIN:VEVENT
DTSTART;TZID=America/Toronto:20260318T103000
DTEND;TZID=America/Toronto:20260318T113000
DTSTAMP:20260425T113609
CREATED:20260306T142555Z
LAST-MODIFIED:20260306T142555Z
UID:111176-1773829800-1773833400@hamiltonjfs.ca
SUMMARY:Functional Fitness
DESCRIPTION:Improve strength\, mobility and balance. All equipment provided. All fitness levels are welcome. Occurs every Wednesday unless otherwise noted.
URL:https://hamiltonjfs.ca/event/functional-fitness-31/
LOCATION:Hamilton Jewish Family Services\, 30 King Street E\, Dundas
CATEGORIES:Functional Fitness,Seniors Living Well Centre
ATTACH;FMTTYPE=image/png:https://hamiltonjfs.ca/wp-content/uploads/2024/10/Functional-Fitness-for-Seniors-INSTA-2.png
ORGANIZER;CN="Seniors Living Well Centre":MAILTO:erikam@hamiltonjfs.ca
END:VEVENT
BEGIN:VEVENT
DTSTART;TZID=America/Toronto:20260325T103000
DTEND;TZID=America/Toronto:20260325T113000
DTSTAMP:20260425T113609
CREATED:20260306T152640Z
LAST-MODIFIED:20260306T152640Z
UID:111194-1774434600-1774438200@hamiltonjfs.ca
SUMMARY:Functional Fitness
DESCRIPTION:Improve strength\, mobility and balance. All equipment provided. All fitness levels are welcome. Occurs every Wednesday unless otherwise noted.
URL:https://hamiltonjfs.ca/event/functional-fitness-32/
LOCATION:Hamilton Jewish Family Services\, 30 King Street E\, Dundas
CATEGORIES:Functional Fitness,Seniors Living Well Centre
ATTACH;FMTTYPE=image/png:https://hamiltonjfs.ca/wp-content/uploads/2024/10/Functional-Fitness-for-Seniors-INSTA-2.png
ORGANIZER;CN="Seniors Living Well Centre":MAILTO:erikam@hamiltonjfs.ca
END:VEVENT
END:VCALENDAR