BEGIN:VCALENDAR
VERSION:2.0
PRODID:-//Hamilton Jewish Family Services - ECPv6.15.20//NONSGML v1.0//EN
CALSCALE:GREGORIAN
METHOD:PUBLISH
X-ORIGINAL-URL:https://hamiltonjfs.ca
X-WR-CALDESC:Events for Hamilton Jewish Family Services
REFRESH-INTERVAL;VALUE=DURATION:PT1H
X-Robots-Tag:noindex
X-PUBLISHED-TTL:PT1H
BEGIN:VTIMEZONE
TZID:America/Toronto
BEGIN:DAYLIGHT
TZOFFSETFROM:-0500
TZOFFSETTO:-0400
TZNAME:EDT
DTSTART:20250309T070000
END:DAYLIGHT
BEGIN:STANDARD
TZOFFSETFROM:-0400
TZOFFSETTO:-0500
TZNAME:EST
DTSTART:20251102T060000
END:STANDARD
BEGIN:DAYLIGHT
TZOFFSETFROM:-0500
TZOFFSETTO:-0400
TZNAME:EDT
DTSTART:20260308T070000
END:DAYLIGHT
BEGIN:STANDARD
TZOFFSETFROM:-0400
TZOFFSETTO:-0500
TZNAME:EST
DTSTART:20261101T060000
END:STANDARD
BEGIN:DAYLIGHT
TZOFFSETFROM:-0500
TZOFFSETTO:-0400
TZNAME:EDT
DTSTART:20270314T070000
END:DAYLIGHT
BEGIN:STANDARD
TZOFFSETFROM:-0400
TZOFFSETTO:-0500
TZNAME:EST
DTSTART:20271107T060000
END:STANDARD
END:VTIMEZONE
BEGIN:VEVENT
DTSTART;TZID=America/Toronto:20260303T100000
DTEND;TZID=America/Toronto:20260303T113000
DTSTAMP:20260425T175600
CREATED:20260305T161636Z
LAST-MODIFIED:20260305T161636Z
UID:111138-1772532000-1772537400@hamiltonjfs.ca
SUMMARY:Seniors Hike Club
DESCRIPTION:Weekly trail hikes in and around Dundas\, led by Chris Parr. Occurs every Tuesday from 9:30 am – 12:00 pm.
URL:https://hamiltonjfs.ca/event/seniors-hike-club-23/
LOCATION:Hamilton Jewish Family Services\, 30 King Street E\, Dundas
CATEGORIES:Hike Club,Seniors Living Well Centre
ATTACH;FMTTYPE=image/png:https://hamiltonjfs.ca/wp-content/uploads/2025/05/Seniors-Hike-Club.png
ORGANIZER;CN="Seniors Living Well Centre":MAILTO:erikam@hamiltonjfs.ca
END:VEVENT
BEGIN:VEVENT
DTSTART;TZID=America/Toronto:20260310T100000
DTEND;TZID=America/Toronto:20260310T113000
DTSTAMP:20260425T175600
CREATED:20260305T172257Z
LAST-MODIFIED:20260305T172257Z
UID:111154-1773136800-1773142200@hamiltonjfs.ca
SUMMARY:Seniors Hike Club
DESCRIPTION:Weekly trail hikes in and around Dundas\, led by Chris Parr. Occurs every Tuesday from 9:30 am – 12:00 pm.
URL:https://hamiltonjfs.ca/event/seniors-hike-club-24/
LOCATION:Hamilton Jewish Family Services\, 30 King Street E\, Dundas
CATEGORIES:Hike Club,Seniors Living Well Centre
ATTACH;FMTTYPE=image/png:https://hamiltonjfs.ca/wp-content/uploads/2025/05/Seniors-Hike-Club.png
ORGANIZER;CN="Seniors Living Well Centre":MAILTO:erikam@hamiltonjfs.ca
END:VEVENT
BEGIN:VEVENT
DTSTART;TZID=America/Toronto:20260317T100000
DTEND;TZID=America/Toronto:20260317T113000
DTSTAMP:20260425T175600
CREATED:20260306T141924Z
LAST-MODIFIED:20260306T141924Z
UID:111174-1773741600-1773747000@hamiltonjfs.ca
SUMMARY:Seniors Hike Club
DESCRIPTION:Weekly trail hikes in and around Dundas\, led by Chris Parr. Occurs every Tuesday from 9:30 am – 12:00 pm.
URL:https://hamiltonjfs.ca/event/seniors-hike-club-25/
LOCATION:Hamilton Jewish Family Services\, 30 King Street E\, Dundas
CATEGORIES:Hike Club,Seniors Living Well Centre
ATTACH;FMTTYPE=image/png:https://hamiltonjfs.ca/wp-content/uploads/2025/05/Seniors-Hike-Club.png
ORGANIZER;CN="Seniors Living Well Centre":MAILTO:erikam@hamiltonjfs.ca
END:VEVENT
BEGIN:VEVENT
DTSTART;TZID=America/Toronto:20260324T100000
DTEND;TZID=America/Toronto:20260324T113000
DTSTAMP:20260425T175600
CREATED:20260306T151932Z
LAST-MODIFIED:20260306T151932Z
UID:111188-1774346400-1774351800@hamiltonjfs.ca
SUMMARY:Seniors Hike Club
DESCRIPTION:Weekly trail hikes in and around Dundas\, led by Chris Parr. Occurs every Tuesday from 9:30 am – 12:00 pm.
URL:https://hamiltonjfs.ca/event/seniors-hike-club-26/
LOCATION:Hamilton Jewish Family Services\, 30 King Street E\, Dundas
CATEGORIES:Hike Club,Seniors Living Well Centre
ATTACH;FMTTYPE=image/png:https://hamiltonjfs.ca/wp-content/uploads/2025/05/Seniors-Hike-Club.png
ORGANIZER;CN="Seniors Living Well Centre":MAILTO:erikam@hamiltonjfs.ca
END:VEVENT
BEGIN:VEVENT
DTSTART;TZID=America/Toronto:20260331T100000
DTEND;TZID=America/Toronto:20260331T113000
DTSTAMP:20260425T175600
CREATED:20260306T154108Z
LAST-MODIFIED:20260306T154108Z
UID:111206-1774951200-1774956600@hamiltonjfs.ca
SUMMARY:Seniors Hike Club
DESCRIPTION:Weekly trail hikes in and around Dundas\, led by Chris Parr. Occurs every Tuesday from 9:30 am – 12:00 pm.
URL:https://hamiltonjfs.ca/event/seniors-hike-club-27/
LOCATION:Hamilton Jewish Family Services\, 30 King Street E\, Dundas
CATEGORIES:Hike Club,Seniors Living Well Centre
ATTACH;FMTTYPE=image/png:https://hamiltonjfs.ca/wp-content/uploads/2025/05/Seniors-Hike-Club.png
ORGANIZER;CN="Seniors Living Well Centre":MAILTO:erikam@hamiltonjfs.ca
END:VEVENT
END:VCALENDAR