BEGIN:VCALENDAR
VERSION:2.0
PRODID:-//Hamilton Jewish Family Services - ECPv6.15.20//NONSGML v1.0//EN
CALSCALE:GREGORIAN
METHOD:PUBLISH
X-WR-CALNAME:Hamilton Jewish Family Services
X-ORIGINAL-URL:https://hamiltonjfs.ca
X-WR-CALDESC:Events for Hamilton Jewish Family Services
REFRESH-INTERVAL;VALUE=DURATION:PT1H
X-Robots-Tag:noindex
X-PUBLISHED-TTL:PT1H
BEGIN:VTIMEZONE
TZID:America/Toronto
BEGIN:DAYLIGHT
TZOFFSETFROM:-0500
TZOFFSETTO:-0400
TZNAME:EDT
DTSTART:20240310T070000
END:DAYLIGHT
BEGIN:STANDARD
TZOFFSETFROM:-0400
TZOFFSETTO:-0500
TZNAME:EST
DTSTART:20241103T060000
END:STANDARD
BEGIN:DAYLIGHT
TZOFFSETFROM:-0500
TZOFFSETTO:-0400
TZNAME:EDT
DTSTART:20250309T070000
END:DAYLIGHT
BEGIN:STANDARD
TZOFFSETFROM:-0400
TZOFFSETTO:-0500
TZNAME:EST
DTSTART:20251102T060000
END:STANDARD
BEGIN:DAYLIGHT
TZOFFSETFROM:-0500
TZOFFSETTO:-0400
TZNAME:EDT
DTSTART:20260308T070000
END:DAYLIGHT
BEGIN:STANDARD
TZOFFSETFROM:-0400
TZOFFSETTO:-0500
TZNAME:EST
DTSTART:20261101T060000
END:STANDARD
END:VTIMEZONE
BEGIN:VEVENT
DTSTART;TZID=America/Toronto:20251130T093000
DTEND;TZID=America/Toronto:20251130T110000
DTSTAMP:20260425T114201
CREATED:20251013T073245Z
LAST-MODIFIED:20251021T231333Z
UID:110124-1764495000-1764500400@hamiltonjfs.ca
SUMMARY:Adults Investing in Emotional Well-Being: WHAT? ME WORRY?
DESCRIPTION:Session 3 of 5-week course in Cognitive Behaviour Therapy for Anxiety \nThe famous author\, Mark Twain\, wrote: “I’ve had a lot of worries in my life\, most of which never happened” Does Anxiety take up more space in your life than you would like? Cognitive Behaviour Therapy is considered the “gold standard” of modalities to help reduce the anxiety in your life which is not helpful. You can keep the helpful anxiety! \nTime:   Sundays   9:30 am – 11 am \nDuration:  1.5 hours per session \nFacilitator:   Natalie Sobel\, MSW\, RSW \nFee:  $40 (negotiable in case of financial hardship)      Capacity: Minimum of 8 and maximum of 10 participants \nNOTE: Prospective participants will need to speak with course facilitator for a brief assessment; participants will receive a course manual and will be asked to try out the strategies learned as home practice. Any classroom sharing is restricted to what pertains to their learning in the program. \nFor additional information either call Natalie Sobel at 905-627-9922 x 24 or email natalies@hamiltonjfs.ca
URL:https://hamiltonjfs.ca/event/adults-investing-in-emotional-well-being-what-me-worry-3/
LOCATION:Hamilton Jewish Family Services\, 30 King Street E\, Dundas
CATEGORIES:Mental Health & Well-being
ORGANIZER;CN="Natalie Sobel":MAILTO:natalies@hamiltonjfs.ca
END:VEVENT
END:VCALENDAR