BEGIN:VCALENDAR
VERSION:2.0
PRODID:-//Hamilton Jewish Family Services - ECPv6.15.20//NONSGML v1.0//EN
CALSCALE:GREGORIAN
METHOD:PUBLISH
X-ORIGINAL-URL:https://hamiltonjfs.ca
X-WR-CALDESC:Events for Hamilton Jewish Family Services
REFRESH-INTERVAL;VALUE=DURATION:PT1H
X-Robots-Tag:noindex
X-PUBLISHED-TTL:PT1H
BEGIN:VTIMEZONE
TZID:America/Toronto
BEGIN:DAYLIGHT
TZOFFSETFROM:-0500
TZOFFSETTO:-0400
TZNAME:EDT
DTSTART:20250309T070000
END:DAYLIGHT
BEGIN:STANDARD
TZOFFSETFROM:-0400
TZOFFSETTO:-0500
TZNAME:EST
DTSTART:20251102T060000
END:STANDARD
BEGIN:DAYLIGHT
TZOFFSETFROM:-0500
TZOFFSETTO:-0400
TZNAME:EDT
DTSTART:20260308T070000
END:DAYLIGHT
BEGIN:STANDARD
TZOFFSETFROM:-0400
TZOFFSETTO:-0500
TZNAME:EST
DTSTART:20261101T060000
END:STANDARD
BEGIN:DAYLIGHT
TZOFFSETFROM:-0500
TZOFFSETTO:-0400
TZNAME:EDT
DTSTART:20270314T070000
END:DAYLIGHT
BEGIN:STANDARD
TZOFFSETFROM:-0400
TZOFFSETTO:-0500
TZNAME:EST
DTSTART:20271107T060000
END:STANDARD
END:VTIMEZONE
BEGIN:VTIMEZONE
TZID:UTC
BEGIN:STANDARD
TZOFFSETFROM:+0000
TZOFFSETTO:+0000
TZNAME:UTC
DTSTART:20250101T000000
END:STANDARD
END:VTIMEZONE
BEGIN:VEVENT
DTSTART;TZID=America/Toronto:20260211T103000
DTEND;TZID=America/Toronto:20260211T113000
DTSTAMP:20260425T180519
CREATED:20260202T163236Z
LAST-MODIFIED:20260202T163906Z
UID:110972-1770805800-1770809400@hamiltonjfs.ca
SUMMARY:Functional Fitness
DESCRIPTION:Improve strength\, mobility and balance. All equipment provided. All fitness levels are welcome. Occurs every Wednesday unless otherwise noted.
URL:https://hamiltonjfs.ca/event/functional-fitness-26/
LOCATION:Hamilton Jewish Family Services\, 30 King Street E\, Dundas
CATEGORIES:Functional Fitness,Seniors Living Well Centre
ATTACH;FMTTYPE=image/png:https://hamiltonjfs.ca/wp-content/uploads/2024/10/Functional-Fitness-for-Seniors-INSTA-2.png
ORGANIZER;CN="Seniors Living Well Centre":MAILTO:erikam@hamiltonjfs.ca
END:VEVENT
BEGIN:VEVENT
DTSTART;TZID=UTC:20260211T123000
DTEND;TZID=UTC:20260211T140000
DTSTAMP:20260425T180519
CREATED:20260202T163448Z
LAST-MODIFIED:20260202T163711Z
UID:110974-1770813000-1770818400@hamiltonjfs.ca
SUMMARY:So You Think You Can’t Write?
DESCRIPTION:So you think you can’t write? Let’s prove that inner critic wrong! Join our Seniors Writing Group with the fabulous Lainie Cohen and have some fun putting pen to paper. \nWhether you’ve never written a word or have a drawer full of stories\, this group is for YOU! \nSign up now: erikam@hamiltonjfs.ca
URL:https://hamiltonjfs.ca/event/so-you-think-you-cant-write-9/
LOCATION:Hamilton Jewish Family Services\, 30 King Street E\, Dundas
CATEGORIES:Seniors Living Well Centre,So You Think You Cant Write
ATTACH;FMTTYPE=image/png:https://hamiltonjfs.ca/wp-content/uploads/2025/05/Wednesday-Writing.png
ORGANIZER;CN="Seniors Living Well Centre":MAILTO:erikam@hamiltonjfs.ca
END:VEVENT
END:VCALENDAR