BEGIN:VCALENDAR
VERSION:2.0
PRODID:-//Hamilton Jewish Family Services - ECPv6.15.20//NONSGML v1.0//EN
CALSCALE:GREGORIAN
METHOD:PUBLISH
X-ORIGINAL-URL:https://hamiltonjfs.ca
X-WR-CALDESC:Events for Hamilton Jewish Family Services
REFRESH-INTERVAL;VALUE=DURATION:PT1H
X-Robots-Tag:noindex
X-PUBLISHED-TTL:PT1H
BEGIN:VTIMEZONE
TZID:America/Toronto
BEGIN:DAYLIGHT
TZOFFSETFROM:-0500
TZOFFSETTO:-0400
TZNAME:EDT
DTSTART:20250309T070000
END:DAYLIGHT
BEGIN:STANDARD
TZOFFSETFROM:-0400
TZOFFSETTO:-0500
TZNAME:EST
DTSTART:20251102T060000
END:STANDARD
BEGIN:DAYLIGHT
TZOFFSETFROM:-0500
TZOFFSETTO:-0400
TZNAME:EDT
DTSTART:20260308T070000
END:DAYLIGHT
BEGIN:STANDARD
TZOFFSETFROM:-0400
TZOFFSETTO:-0500
TZNAME:EST
DTSTART:20261101T060000
END:STANDARD
BEGIN:DAYLIGHT
TZOFFSETFROM:-0500
TZOFFSETTO:-0400
TZNAME:EDT
DTSTART:20270314T070000
END:DAYLIGHT
BEGIN:STANDARD
TZOFFSETFROM:-0400
TZOFFSETTO:-0500
TZNAME:EST
DTSTART:20271107T060000
END:STANDARD
END:VTIMEZONE
BEGIN:VEVENT
DTSTART;TZID=America/Toronto:20260226T110000
DTEND;TZID=America/Toronto:20260226T123000
DTSTAMP:20260425T163300
CREATED:20260203T230119Z
LAST-MODIFIED:20260211T184925Z
UID:111016-1772103600-1772109000@hamiltonjfs.ca
SUMMARY:Café Europa
DESCRIPTION:The Café Europa program brings Holocaust survivors together for cultural programming\, connection\, and care \nFor more information and to RSVP\, contact Jane Allen (905)-627-9922.x26 or janea@hamiltonjfs.ca \n 
URL:https://hamiltonjfs.ca/event/cafe-europa/
CATEGORIES:Seniors Living Well Centre
END:VEVENT
BEGIN:VEVENT
DTSTART;TZID=America/Toronto:20260226T133000
DTEND;TZID=America/Toronto:20260226T153000
DTSTAMP:20260425T163300
CREATED:20260203T225943Z
LAST-MODIFIED:20260203T225943Z
UID:111014-1772112600-1772119800@hamiltonjfs.ca
SUMMARY:Mahjong Drop-in
DESCRIPTION:Come learn and play American-style Mahjong! All experience levels are welcome. Snacks and beverages will be provided. Occurs every Thursday from 1:30 pm – 3:30 pm.
URL:https://hamiltonjfs.ca/event/mahjong-drop-in-31/
LOCATION:Hamilton Jewish Family Services\, 30 King Street E\, Dundas
CATEGORIES:Mahjong,Seniors Living Well Centre
ATTACH;FMTTYPE=image/png:https://hamiltonjfs.ca/wp-content/uploads/2025/05/5.png
ORGANIZER;CN="Seniors Living Well Centre":MAILTO:erikam@hamiltonjfs.ca
END:VEVENT
END:VCALENDAR