BEGIN:VCALENDAR
VERSION:2.0
PRODID:-//Hamilton Jewish Family Services - ECPv6.15.20//NONSGML v1.0//EN
CALSCALE:GREGORIAN
METHOD:PUBLISH
X-ORIGINAL-URL:https://hamiltonjfs.ca
X-WR-CALDESC:Events for Hamilton Jewish Family Services
REFRESH-INTERVAL;VALUE=DURATION:PT1H
X-Robots-Tag:noindex
X-PUBLISHED-TTL:PT1H
BEGIN:VTIMEZONE
TZID:America/Toronto
BEGIN:DAYLIGHT
TZOFFSETFROM:-0500
TZOFFSETTO:-0400
TZNAME:EDT
DTSTART:20250309T070000
END:DAYLIGHT
BEGIN:STANDARD
TZOFFSETFROM:-0400
TZOFFSETTO:-0500
TZNAME:EST
DTSTART:20251102T060000
END:STANDARD
BEGIN:DAYLIGHT
TZOFFSETFROM:-0500
TZOFFSETTO:-0400
TZNAME:EDT
DTSTART:20260308T070000
END:DAYLIGHT
BEGIN:STANDARD
TZOFFSETFROM:-0400
TZOFFSETTO:-0500
TZNAME:EST
DTSTART:20261101T060000
END:STANDARD
BEGIN:DAYLIGHT
TZOFFSETFROM:-0500
TZOFFSETTO:-0400
TZNAME:EDT
DTSTART:20270314T070000
END:DAYLIGHT
BEGIN:STANDARD
TZOFFSETFROM:-0400
TZOFFSETTO:-0500
TZNAME:EST
DTSTART:20271107T060000
END:STANDARD
END:VTIMEZONE
BEGIN:VEVENT
DTSTART;TZID=America/Toronto:20260330T130000
DTEND;TZID=America/Toronto:20260330T150000
DTSTAMP:20260423T134829
CREATED:20260306T154000Z
LAST-MODIFIED:20260306T154000Z
UID:111204-1774875600-1774882800@hamiltonjfs.ca
SUMMARY:Income Tax Clinic
DESCRIPTION:Free tax help for simple returns and modest incomes
URL:https://hamiltonjfs.ca/event/income-tax-clinic-5/
CATEGORIES:Seniors Living Well Centre,Tax Income
END:VEVENT
BEGIN:VEVENT
DTSTART;TZID=America/Toronto:20260323T130000
DTEND;TZID=America/Toronto:20260323T150000
DTSTAMP:20260423T134829
CREATED:20260306T144428Z
LAST-MODIFIED:20260306T144428Z
UID:111186-1774270800-1774278000@hamiltonjfs.ca
SUMMARY:Income Tax Clinic
DESCRIPTION:Free tax help for simple returns and modest incomes
URL:https://hamiltonjfs.ca/event/income-tax-clinic-4/
CATEGORIES:Seniors Living Well Centre,Tax Income
END:VEVENT
BEGIN:VEVENT
DTSTART;TZID=America/Toronto:20260316T130000
DTEND;TZID=America/Toronto:20260316T150000
DTSTAMP:20260423T134829
CREATED:20260306T141803Z
LAST-MODIFIED:20260306T141803Z
UID:111172-1773666000-1773673200@hamiltonjfs.ca
SUMMARY:Income Tax Clinic
DESCRIPTION:Free tax help for simple returns and modest incomes
URL:https://hamiltonjfs.ca/event/income-tax-clinic-3/
CATEGORIES:Seniors Living Well Centre,Tax Income
END:VEVENT
BEGIN:VEVENT
DTSTART;TZID=America/Toronto:20260309T130000
DTEND;TZID=America/Toronto:20260309T150000
DTSTAMP:20260423T134829
CREATED:20260305T172000Z
LAST-MODIFIED:20260305T172000Z
UID:111152-1773061200-1773068400@hamiltonjfs.ca
SUMMARY:Income Tax Clinic
DESCRIPTION:Free tax help for simple returns and modest incomes
URL:https://hamiltonjfs.ca/event/income-tax-clinic-2/
CATEGORIES:Seniors Living Well Centre,Tax Income
END:VEVENT
BEGIN:VEVENT
DTSTART;TZID=America/Toronto:20260305T130000
DTEND;TZID=America/Toronto:20260305T150000
DTSTAMP:20260423T134829
CREATED:20260305T161224Z
LAST-MODIFIED:20260305T161224Z
UID:111136-1772715600-1772722800@hamiltonjfs.ca
SUMMARY:Income Tax Clinic
DESCRIPTION:Free tax help for simple returns and modest incomes
URL:https://hamiltonjfs.ca/event/income-tax-clinic/
CATEGORIES:Tax Income
END:VEVENT
END:VCALENDAR