BEGIN:VCALENDAR
VERSION:2.0
PRODID:-//Hamilton Jewish Family Services - ECPv6.15.20//NONSGML v1.0//EN
CALSCALE:GREGORIAN
METHOD:PUBLISH
X-ORIGINAL-URL:https://hamiltonjfs.ca
X-WR-CALDESC:Events for Hamilton Jewish Family Services
REFRESH-INTERVAL;VALUE=DURATION:PT1H
X-Robots-Tag:noindex
X-PUBLISHED-TTL:PT1H
BEGIN:VTIMEZONE
TZID:America/Toronto
BEGIN:DAYLIGHT
TZOFFSETFROM:-0500
TZOFFSETTO:-0400
TZNAME:EDT
DTSTART:20250309T070000
END:DAYLIGHT
BEGIN:STANDARD
TZOFFSETFROM:-0400
TZOFFSETTO:-0500
TZNAME:EST
DTSTART:20251102T060000
END:STANDARD
BEGIN:DAYLIGHT
TZOFFSETFROM:-0500
TZOFFSETTO:-0400
TZNAME:EDT
DTSTART:20260308T070000
END:DAYLIGHT
BEGIN:STANDARD
TZOFFSETFROM:-0400
TZOFFSETTO:-0500
TZNAME:EST
DTSTART:20261101T060000
END:STANDARD
BEGIN:DAYLIGHT
TZOFFSETFROM:-0500
TZOFFSETTO:-0400
TZNAME:EDT
DTSTART:20270314T070000
END:DAYLIGHT
BEGIN:STANDARD
TZOFFSETFROM:-0400
TZOFFSETTO:-0500
TZNAME:EST
DTSTART:20271107T060000
END:STANDARD
END:VTIMEZONE
BEGIN:VEVENT
DTSTART;TZID=America/Toronto:20260302T103000
DTEND;TZID=America/Toronto:20260302T233000
DTSTAMP:20260425T113527
CREATED:20260305T155951Z
LAST-MODIFIED:20260305T155951Z
UID:111132-1772447400-1772494200@hamiltonjfs.ca
SUMMARY:VR Experience
DESCRIPTION:Use Meta Virtual Reality headsets to travel\, play games\, make art\, and more!
URL:https://hamiltonjfs.ca/event/vr-experience-13/
CATEGORIES:Seniors Living Well Centre,VR Experience
ATTACH;FMTTYPE=image/png:https://hamiltonjfs.ca/wp-content/uploads/2026/02/HJFS-VR-For-Seniors-Round-2-1.png
END:VEVENT
BEGIN:VEVENT
DTSTART;TZID=America/Toronto:20260309T103000
DTEND;TZID=America/Toronto:20260309T233000
DTSTAMP:20260425T113527
CREATED:20260305T171338Z
LAST-MODIFIED:20260305T171338Z
UID:111148-1773052200-1773099000@hamiltonjfs.ca
SUMMARY:VR Experience
DESCRIPTION:Use Meta Virtual Reality headsets to travel\, play games\, make art\, and more!
URL:https://hamiltonjfs.ca/event/vr-experience-14/
CATEGORIES:Seniors Living Well Centre,VR Experience
ATTACH;FMTTYPE=image/png:https://hamiltonjfs.ca/wp-content/uploads/2026/02/HJFS-VR-For-Seniors-Round-2-1.png
END:VEVENT
BEGIN:VEVENT
DTSTART;TZID=America/Toronto:20260316T103000
DTEND;TZID=America/Toronto:20260316T233000
DTSTAMP:20260425T113527
CREATED:20260305T231740Z
LAST-MODIFIED:20260305T231740Z
UID:111168-1773657000-1773703800@hamiltonjfs.ca
SUMMARY:VR Experience
DESCRIPTION:Use Meta Virtual Reality headsets to travel\, play games\, make art\, and more!
URL:https://hamiltonjfs.ca/event/vr-experience-15/
CATEGORIES:Seniors Living Well Centre,VR Experience
ATTACH;FMTTYPE=image/png:https://hamiltonjfs.ca/wp-content/uploads/2026/02/HJFS-VR-For-Seniors-Round-2-1.png
END:VEVENT
BEGIN:VEVENT
DTSTART;TZID=America/Toronto:20260323T103000
DTEND;TZID=America/Toronto:20260323T233000
DTSTAMP:20260425T113527
CREATED:20260219T121114Z
LAST-MODIFIED:20260219T121114Z
UID:111061-1774261800-1774308600@hamiltonjfs.ca
SUMMARY:VR Experience
DESCRIPTION:Use Meta Virtual Reality headsets to travel\, play games\, make art\, and more!
URL:https://hamiltonjfs.ca/event/vr-experience-11/
CATEGORIES:Seniors Living Well Centre,VR Experience
ATTACH;FMTTYPE=image/png:https://hamiltonjfs.ca/wp-content/uploads/2026/02/HJFS-VR-For-Seniors-Round-2-1.png
END:VEVENT
BEGIN:VEVENT
DTSTART;TZID=America/Toronto:20260330T103000
DTEND;TZID=America/Toronto:20260330T233000
DTSTAMP:20260425T113527
CREATED:20260219T121144Z
LAST-MODIFIED:20260219T121144Z
UID:111063-1774866600-1774913400@hamiltonjfs.ca
SUMMARY:VR Experience
DESCRIPTION:Use Meta Virtual Reality headsets to travel\, play games\, make art\, and more!
URL:https://hamiltonjfs.ca/event/vr-experience-12/
CATEGORIES:Seniors Living Well Centre,VR Experience
ATTACH;FMTTYPE=image/png:https://hamiltonjfs.ca/wp-content/uploads/2026/02/HJFS-VR-For-Seniors-Round-2-1.png
END:VEVENT
END:VCALENDAR