BEGIN:VCALENDAR
VERSION:2.0
PRODID:-//Hamilton Jewish Family Services - ECPv6.15.20//NONSGML v1.0//EN
CALSCALE:GREGORIAN
METHOD:PUBLISH
X-ORIGINAL-URL:https://hamiltonjfs.ca
X-WR-CALDESC:Events for Hamilton Jewish Family Services
REFRESH-INTERVAL;VALUE=DURATION:PT1H
X-Robots-Tag:noindex
X-PUBLISHED-TTL:PT1H
BEGIN:VTIMEZONE
TZID:America/Toronto
BEGIN:DAYLIGHT
TZOFFSETFROM:-0500
TZOFFSETTO:-0400
TZNAME:EDT
DTSTART:20250309T070000
END:DAYLIGHT
BEGIN:STANDARD
TZOFFSETFROM:-0400
TZOFFSETTO:-0500
TZNAME:EST
DTSTART:20251102T060000
END:STANDARD
BEGIN:DAYLIGHT
TZOFFSETFROM:-0500
TZOFFSETTO:-0400
TZNAME:EDT
DTSTART:20260308T070000
END:DAYLIGHT
BEGIN:STANDARD
TZOFFSETFROM:-0400
TZOFFSETTO:-0500
TZNAME:EST
DTSTART:20261101T060000
END:STANDARD
BEGIN:DAYLIGHT
TZOFFSETFROM:-0500
TZOFFSETTO:-0400
TZNAME:EDT
DTSTART:20270314T070000
END:DAYLIGHT
BEGIN:STANDARD
TZOFFSETFROM:-0400
TZOFFSETTO:-0500
TZNAME:EST
DTSTART:20271107T060000
END:STANDARD
END:VTIMEZONE
BEGIN:VEVENT
DTSTART;TZID=America/Toronto:20260223T103000
DTEND;TZID=America/Toronto:20260223T233000
DTSTAMP:20260425T162814
CREATED:20260203T224008Z
LAST-MODIFIED:20260203T224008Z
UID:111002-1771842600-1771889400@hamiltonjfs.ca
SUMMARY:VR Experience
DESCRIPTION:Use Meta Virtual Reality headsets to travel\, play games\, make art\, and more!
URL:https://hamiltonjfs.ca/event/vr-experience-8/
CATEGORIES:Seniors Living Well Centre,VR Experience
END:VEVENT
END:VCALENDAR